BEGIN:VCALENDAR
VERSION:2.0
PRODID:-//VonBuckinator - ECPv6.15.18//NONSGML v1.0//EN
CALSCALE:GREGORIAN
METHOD:PUBLISH
X-WR-CALNAME:VonBuckinator
X-ORIGINAL-URL:https://vonbuck.com
X-WR-CALDESC:Events for VonBuckinator
REFRESH-INTERVAL;VALUE=DURATION:PT1H
X-Robots-Tag:noindex
X-PUBLISHED-TTL:PT1H
BEGIN:VTIMEZONE
TZID:America/Chicago
BEGIN:DAYLIGHT
TZOFFSETFROM:-0600
TZOFFSETTO:-0500
TZNAME:CDT
DTSTART:20240310T080000
END:DAYLIGHT
BEGIN:STANDARD
TZOFFSETFROM:-0500
TZOFFSETTO:-0600
TZNAME:CST
DTSTART:20241103T070000
END:STANDARD
BEGIN:DAYLIGHT
TZOFFSETFROM:-0600
TZOFFSETTO:-0500
TZNAME:CDT
DTSTART:20250309T080000
END:DAYLIGHT
BEGIN:STANDARD
TZOFFSETFROM:-0500
TZOFFSETTO:-0600
TZNAME:CST
DTSTART:20251102T070000
END:STANDARD
BEGIN:DAYLIGHT
TZOFFSETFROM:-0600
TZOFFSETTO:-0500
TZNAME:CDT
DTSTART:20260308T080000
END:DAYLIGHT
BEGIN:STANDARD
TZOFFSETFROM:-0500
TZOFFSETTO:-0600
TZNAME:CST
DTSTART:20261101T070000
END:STANDARD
END:VTIMEZONE
BEGIN:VEVENT
DTSTART;TZID=America/Chicago:20251011T100000
DTEND;TZID=America/Chicago:20251011T180000
DTSTAMP:20260422T223530
CREATED:20230712T234111Z
LAST-MODIFIED:20250910T164239Z
UID:863-1760176800-1760205600@vonbuck.com
SUMMARY:Ironbull Red Granite Grinder
DESCRIPTION:  \nThe Ironbull Red Granite Grinder is a premier gravel race. Per the website- “Ready for adventure? Our routes are designed to give riders the chance to explore the grit in the western portion of Marathon County on several gems that can only be accessed through this race.  Riders will fully experience Central Wisconsin by riding through areas not usually open to bikes through “featured sections” in addition to passing ginseng fields\, dairy farm pastures\, barns\, and farm fields in each the 50\, 85 and 144 mile races. This event is part of the Ironbear 1000 which highlights Wisconsin’s epic gravel. Bring friends & family for the weekend’s festivities”. Von Buck will be there with the VonBuckinator set up at the finish line to clean and wax bike chains
URL:https://vonbuck.com/event/ironbull-red-granite-grinder-2/
LOCATION:Erbach Park\, Athens\, WI\, 54411\, United States
ATTACH;FMTTYPE=image/png:https://vonbuck.com/wp-content/uploads/2023/07/IRONBULLLogo.png
ORGANIZER;CN="Ironbull":MAILTO:executivedirector@ironbull.org
END:VEVENT
END:VCALENDAR