BEGIN:VCALENDAR
VERSION:2.0
PRODID:-//VonBuckinator - ECPv6.15.18//NONSGML v1.0//EN
CALSCALE:GREGORIAN
METHOD:PUBLISH
X-ORIGINAL-URL:https://vonbuck.com
X-WR-CALDESC:Events for VonBuckinator
REFRESH-INTERVAL;VALUE=DURATION:PT1H
X-Robots-Tag:noindex
X-PUBLISHED-TTL:PT1H
BEGIN:VTIMEZONE
TZID:America/Chicago
BEGIN:DAYLIGHT
TZOFFSETFROM:-0600
TZOFFSETTO:-0500
TZNAME:CDT
DTSTART:20250309T080000
END:DAYLIGHT
BEGIN:STANDARD
TZOFFSETFROM:-0500
TZOFFSETTO:-0600
TZNAME:CST
DTSTART:20251102T070000
END:STANDARD
BEGIN:DAYLIGHT
TZOFFSETFROM:-0600
TZOFFSETTO:-0500
TZNAME:CDT
DTSTART:20260308T080000
END:DAYLIGHT
BEGIN:STANDARD
TZOFFSETFROM:-0500
TZOFFSETTO:-0600
TZNAME:CST
DTSTART:20261101T070000
END:STANDARD
BEGIN:DAYLIGHT
TZOFFSETFROM:-0600
TZOFFSETTO:-0500
TZNAME:CDT
DTSTART:20270314T080000
END:DAYLIGHT
BEGIN:STANDARD
TZOFFSETFROM:-0500
TZOFFSETTO:-0600
TZNAME:CST
DTSTART:20271107T070000
END:STANDARD
END:VTIMEZONE
BEGIN:VEVENT
DTSTART;VALUE=DATE:20261003
DTEND;VALUE=DATE:20261004
DTSTAMP:20260423T050118
CREATED:20260411T141051Z
LAST-MODIFIED:20260411T141051Z
UID:2588-1790985600-1791071999@vonbuck.com
SUMMARY:Old Fashioned Gravel Bike Event
DESCRIPTION:Get your gravel on and get your chain waxed!\n“We are fortunate enough to have some of the best gravel riding in the Midwest and have put together four routes to show off the local terrain. As with all of our rides\, we offer a little bit of everything and welcome EVERYONE from novice riders to the most seasoned racers. The focus of the ride is to bring like-minded individuals together for a great ride\, but we will have professional timing so if you want to race we will have you covered too! Routes that will satisfy all of your gravely desires\, and a post-ride gathering with food\, drink\, and hangs with new friends.” \nWe will introduce an awesome new venue in Hokah Minnesota\, a rustic farm nestled in a scenic coulee. While the ride is about riding with other rad people like yourself\, rest assured a portion of your entry fee will go to a local entity that could use a little financial help. If we can have a super fun time while helping others\, that is what will make this a successful event. We will also be using local businesses to feed and hydrate us. Hokah is a super cool little town\, and we would love to help keep our money local. \nAll routes will leave and finish at the farm. The gravel is approximately two miles from the start line\, and one mile of that is a paved climb\, once you are on the ridge\, the dust shall start flying! All routes will descend this paved section upon return to the finish line. \nThe Vonbuckinator will be set up during the event to clean and wax your chain. Check us out at  http://vonbuckinator.com \n 
URL:https://vonbuck.com/event/old-fashioned-gravel-bike-event/
LOCATION:Hokah Minnesota\, The Wieser Farm\, 7661 Wieser Rd\, Hokah\, MN\, 55941\, United States
ATTACH;FMTTYPE=image/png:https://vonbuck.com/wp-content/uploads/2024/06/oldfashionedgravel.png
END:VEVENT
BEGIN:VEVENT
DTSTART;TZID=America/Chicago:20261010T080000
DTEND;TZID=America/Chicago:20261010T170000
DTSTAMP:20260423T050118
CREATED:20260323T184316Z
LAST-MODIFIED:20260323T184316Z
UID:2585-1791619200-1791651600@vonbuck.com
SUMMARY:IronBull Red Granite Grinder
DESCRIPTION:Chain Waxing at The RED GRANITE GRINDER?\nReady for adventure? With more gravel than ever before\, riders are treated with miles upon miles on red granite\, a gravel rider’s dream. Our routes are designed to give riders the chance to fully experience rural Central Wisconsin passing by dairy farms\, over pristine rivers & creeks\, through beautiful canopies of hardwoods during peak fall colors\, while rolling over red granite aka red gold. \nThis event is part of the Ironbear 1000 which highlights Wisconsin’s epic gravel. Bring friends & family for the weekend’s festivities (see more info below). The Red Granite Grinder was rated by Strambecco as one of the top three cycling events in Wisconsin! \n  \nThe VonBuckinator will be set up in Athens park\, cleaning and waxing chains on race day!
URL:https://vonbuck.com/event/ironbull-red-granite-grinder/
LOCATION:Erbach Park\, Athens\, WI\, 54411\, United States
ATTACH;FMTTYPE=image/jpeg:https://vonbuck.com/wp-content/uploads/2026/03/Screenshot-2026-03-23-134158.jpg
ORGANIZER;CN="Ironbull":MAILTO:executivedirector@ironbull.org
END:VEVENT
BEGIN:VEVENT
DTSTART;VALUE=DATE:20261106
DTEND;VALUE=DATE:20261108
DTSTAMP:20260423T050118
CREATED:20260417T192414Z
LAST-MODIFIED:20260417T192414Z
UID:2606-1793923200-1794095999@vonbuck.com
SUMMARY:Iceman Cometh Challenge - Mountain Bike Race
DESCRIPTION:TENTATIVE – The Iceman Cometh Challenge is a point-to-point mountain bike race held traditionally on the 1st Saturday of November. Over 5\,000 riders from across the country and around the globe converge on Traverse City for 30 miles of fast\, fun racing capped off with the biggest party of the season! Presented by Trek Bikes\, we’ve spent the last three decades supporting active\, healthy\, and fun mountain biking in northern Michigan. We will be set up cleaning and applying hot wax to bike chains Friday afternoon before the race and Saturday during the events.
URL:https://vonbuck.com/event/iceman-cometh-challenge-mountain-bike-race/
LOCATION:Timber Ridge\, 4050 Hammond Road East\, Traverse City\, MI\, 49696\, United States
ATTACH;FMTTYPE=image/png:https://vonbuck.com/wp-content/uploads/2023/09/icemanlogo-2.png
END:VEVENT
END:VCALENDAR