BEGIN:VCALENDAR
VERSION:2.0
PRODID:-//VonBuckinator - ECPv6.15.18//NONSGML v1.0//EN
CALSCALE:GREGORIAN
METHOD:PUBLISH
X-WR-CALNAME:VonBuckinator
X-ORIGINAL-URL:https://vonbuck.com
X-WR-CALDESC:Events for VonBuckinator
REFRESH-INTERVAL;VALUE=DURATION:PT1H
X-Robots-Tag:noindex
X-PUBLISHED-TTL:PT1H
BEGIN:VTIMEZONE
TZID:America/Chicago
BEGIN:DAYLIGHT
TZOFFSETFROM:-0600
TZOFFSETTO:-0500
TZNAME:CDT
DTSTART:20240310T080000
END:DAYLIGHT
BEGIN:STANDARD
TZOFFSETFROM:-0500
TZOFFSETTO:-0600
TZNAME:CST
DTSTART:20241103T070000
END:STANDARD
BEGIN:DAYLIGHT
TZOFFSETFROM:-0600
TZOFFSETTO:-0500
TZNAME:CDT
DTSTART:20250309T080000
END:DAYLIGHT
BEGIN:STANDARD
TZOFFSETFROM:-0500
TZOFFSETTO:-0600
TZNAME:CST
DTSTART:20251102T070000
END:STANDARD
BEGIN:DAYLIGHT
TZOFFSETFROM:-0600
TZOFFSETTO:-0500
TZNAME:CDT
DTSTART:20260308T080000
END:DAYLIGHT
BEGIN:STANDARD
TZOFFSETFROM:-0500
TZOFFSETTO:-0600
TZNAME:CST
DTSTART:20261101T070000
END:STANDARD
END:VTIMEZONE
BEGIN:VEVENT
DTSTART;VALUE=DATE:20250503
DTEND;VALUE=DATE:20250504
DTSTAMP:20260423T014352
CREATED:20250211T130536Z
LAST-MODIFIED:20250211T130536Z
UID:2438-1746230400-1746316799@vonbuck.com
SUMMARY:The Bear 100
DESCRIPTION:Join the Tradition \nSince 2013\, riders have gathered in Laona\, WI (population 400) to explore the hidden gravel and test their grit in the heart of the Nicolet National Forest. Whether you are a curious first-timer or seasoned gravel veteran\, there’s a route and an adventure waiting for you. 2025 Bear 100 Routes: 31\, 61\, 80 and 113-miles.  The Laona Rescue Squad has been providing route support since 2014. They know the Nicolet National Forest and help keep you safe. In return\, 100% of the proceeds from the events go to the Laona Rescue Squad. The funds raised are used to purchase equipment\, supplies\, and training which help them save lives in the community year-around. 
URL:https://vonbuck.com/event/the-bear-100/
LOCATION:Laona\, WI\, HWY 8 and HWY 32\, Laona\, WI\, 54541\, United States
ATTACH;FMTTYPE=image/avif:https://vonbuck.com/wp-content/uploads/2025/02/bear100-sm-1.avif
END:VEVENT
BEGIN:VEVENT
DTSTART;TZID=America/Chicago:20250412T090000
DTEND;TZID=America/Chicago:20250412T150000
DTSTAMP:20260423T014352
CREATED:20250312T171549Z
LAST-MODIFIED:20250312T171643Z
UID:2462-1744448400-1744470000@vonbuck.com
SUMMARY:RiverTrail Cycles Spring Sales Event
DESCRIPTION:The VonBuckinator will be set up on Saturday during River Trails Cycles Spring Sales Event. We will be cleaning and waxing chains at no charge. Come on down and check out the great deals on bikes and accessories while we wax your chain! \n 
URL:https://vonbuck.com/event/rivertrails-cycles-spring-sales-event/
LOCATION:River Trails Cycles\, 106 Mason St\, Onalaska\, WI\, 54630\, United States
ATTACH;FMTTYPE=image/jpeg:https://vonbuck.com/wp-content/uploads/2025/03/RiverTrails.jpg
END:VEVENT
END:VCALENDAR