BEGIN:VCALENDAR
VERSION:2.0
PRODID:-//VonBuckinator - ECPv6.15.18//NONSGML v1.0//EN
CALSCALE:GREGORIAN
METHOD:PUBLISH
X-ORIGINAL-URL:https://vonbuck.com
X-WR-CALDESC:Events for VonBuckinator
REFRESH-INTERVAL;VALUE=DURATION:PT1H
X-Robots-Tag:noindex
X-PUBLISHED-TTL:PT1H
BEGIN:VTIMEZONE
TZID:America/Chicago
BEGIN:DAYLIGHT
TZOFFSETFROM:-0600
TZOFFSETTO:-0500
TZNAME:CDT
DTSTART:20250309T080000
END:DAYLIGHT
BEGIN:STANDARD
TZOFFSETFROM:-0500
TZOFFSETTO:-0600
TZNAME:CST
DTSTART:20251102T070000
END:STANDARD
BEGIN:DAYLIGHT
TZOFFSETFROM:-0600
TZOFFSETTO:-0500
TZNAME:CDT
DTSTART:20260308T080000
END:DAYLIGHT
BEGIN:STANDARD
TZOFFSETFROM:-0500
TZOFFSETTO:-0600
TZNAME:CST
DTSTART:20261101T070000
END:STANDARD
BEGIN:DAYLIGHT
TZOFFSETFROM:-0600
TZOFFSETTO:-0500
TZNAME:CDT
DTSTART:20270314T080000
END:DAYLIGHT
BEGIN:STANDARD
TZOFFSETFROM:-0500
TZOFFSETTO:-0600
TZNAME:CST
DTSTART:20271107T070000
END:STANDARD
BEGIN:DAYLIGHT
TZOFFSETFROM:-0600
TZOFFSETTO:-0500
TZNAME:CDT
DTSTART:20280312T080000
END:DAYLIGHT
BEGIN:STANDARD
TZOFFSETFROM:-0500
TZOFFSETTO:-0600
TZNAME:CST
DTSTART:20281105T070000
END:STANDARD
END:VTIMEZONE
BEGIN:VEVENT
DTSTART;VALUE=DATE:20260101
DTEND;VALUE=DATE:20280101
DTSTAMP:20260422T172755
CREATED:20240122T161228Z
LAST-MODIFIED:20250922T153753Z
UID:1959-1767225600-1830297599@vonbuck.com
SUMMARY:Formulating Calendar for 2026 Events!
DESCRIPTION:Contact us for possible addition of the Von Buckinator at your event!
URL:https://vonbuck.com/event/currently-formulating-the-calendar-for-2024-events/
LOCATION:MI
ATTACH;FMTTYPE=image/jpeg:https://vonbuck.com/wp-content/uploads/2024/01/2023IBRGG-10.jpg
END:VEVENT
BEGIN:VEVENT
DTSTART;VALUE=DATE:20260612
DTEND;VALUE=DATE:20260615
DTSTAMP:20260422T172755
CREATED:20260417T191050Z
LAST-MODIFIED:20260417T191137Z
UID:2595-1781222400-1781481599@vonbuck.com
SUMMARY:Bentonville Bike Festival  - A Week of Mountain and Gravel Bike Action
DESCRIPTION:A wild week of Mountain bike centered activities. We will have the VonBuckinator set up in the Bentonville Bike Fest vendor area\, cleaning and applying chain wax on Friday\, Saturday and Sunday.  Come check us out!
URL:https://vonbuck.com/event/bentonville-bike-festival-a-week-of-mountain-bike-action/
LOCATION:Bentonville Bike Fest\, 1770 SW 2nd Street\, Bentonville\, AR\, 72712\, United States
ATTACH;FMTTYPE=image/png:https://vonbuck.com/wp-content/uploads/2026/04/BBF-logo.png
END:VEVENT
END:VCALENDAR