BEGIN:VCALENDAR
VERSION:2.0
PRODID:-//VonBuckinator - ECPv6.15.18//NONSGML v1.0//EN
CALSCALE:GREGORIAN
METHOD:PUBLISH
X-WR-CALNAME:VonBuckinator
X-ORIGINAL-URL:https://vonbuck.com
X-WR-CALDESC:Events for VonBuckinator
REFRESH-INTERVAL;VALUE=DURATION:PT1H
X-Robots-Tag:noindex
X-PUBLISHED-TTL:PT1H
BEGIN:VTIMEZONE
TZID:America/Chicago
BEGIN:DAYLIGHT
TZOFFSETFROM:-0600
TZOFFSETTO:-0500
TZNAME:CDT
DTSTART:20240310T080000
END:DAYLIGHT
BEGIN:STANDARD
TZOFFSETFROM:-0500
TZOFFSETTO:-0600
TZNAME:CST
DTSTART:20241103T070000
END:STANDARD
BEGIN:DAYLIGHT
TZOFFSETFROM:-0600
TZOFFSETTO:-0500
TZNAME:CDT
DTSTART:20250309T080000
END:DAYLIGHT
BEGIN:STANDARD
TZOFFSETFROM:-0500
TZOFFSETTO:-0600
TZNAME:CST
DTSTART:20251102T070000
END:STANDARD
BEGIN:DAYLIGHT
TZOFFSETFROM:-0600
TZOFFSETTO:-0500
TZNAME:CDT
DTSTART:20260308T080000
END:DAYLIGHT
BEGIN:STANDARD
TZOFFSETFROM:-0500
TZOFFSETTO:-0600
TZNAME:CST
DTSTART:20261101T070000
END:STANDARD
END:VTIMEZONE
BEGIN:VEVENT
DTSTART;VALUE=DATE:20250920
DTEND;VALUE=DATE:20250921
DTSTAMP:20260423T020149
CREATED:20250211T141318Z
LAST-MODIFIED:20250211T141318Z
UID:2443-1758326400-1758412799@vonbuck.com
SUMMARY:Gravel Nationals
DESCRIPTION:The US Cycling Gravel National Championship will be held in La Crescent Minnesota on Saturday Sept 20th\, 2025. The VonBuckinator will be set up in the vendor area\, cleaning chains and waxing them. Hope to see you there!
URL:https://vonbuck.com/event/gravel-nationals/
LOCATION:Veterans Park\, 159 Timm Lane\, La Crescent\, MN\, 55947\, United States
ATTACH;FMTTYPE=image/png:https://vonbuck.com/wp-content/uploads/2025/02/Gravel_White_on_black.png
END:VEVENT
END:VCALENDAR