BEGIN:VCALENDAR
VERSION:2.0
PRODID:-//VonBuckinator - ECPv6.15.18//NONSGML v1.0//EN
CALSCALE:GREGORIAN
METHOD:PUBLISH
X-ORIGINAL-URL:https://vonbuck.com
X-WR-CALDESC:Events for VonBuckinator
REFRESH-INTERVAL;VALUE=DURATION:PT1H
X-Robots-Tag:noindex
X-PUBLISHED-TTL:PT1H
BEGIN:VTIMEZONE
TZID:America/Chicago
BEGIN:DAYLIGHT
TZOFFSETFROM:-0600
TZOFFSETTO:-0500
TZNAME:CDT
DTSTART:20240310T080000
END:DAYLIGHT
BEGIN:STANDARD
TZOFFSETFROM:-0500
TZOFFSETTO:-0600
TZNAME:CST
DTSTART:20241103T070000
END:STANDARD
BEGIN:DAYLIGHT
TZOFFSETFROM:-0600
TZOFFSETTO:-0500
TZNAME:CDT
DTSTART:20250309T080000
END:DAYLIGHT
BEGIN:STANDARD
TZOFFSETFROM:-0500
TZOFFSETTO:-0600
TZNAME:CST
DTSTART:20251102T070000
END:STANDARD
BEGIN:DAYLIGHT
TZOFFSETFROM:-0600
TZOFFSETTO:-0500
TZNAME:CDT
DTSTART:20260308T080000
END:DAYLIGHT
BEGIN:STANDARD
TZOFFSETFROM:-0500
TZOFFSETTO:-0600
TZNAME:CST
DTSTART:20261101T070000
END:STANDARD
END:VTIMEZONE
BEGIN:VEVENT
DTSTART;VALUE=DATE:20250913
DTEND;VALUE=DATE:20250914
DTSTAMP:20260423T020322
CREATED:20240601T132449Z
LAST-MODIFIED:20250210T142839Z
UID:2314-1757721600-1757807999@vonbuck.com
SUMMARY:Old Fashioned Gravel
DESCRIPTION:The Old Fashioned Gravel ride/race new in 2024\, even better in 2025! We are fortunate enough to have some of the best gravel riding in the Midwest and have put together four routes to show off the local terrain. As with all of our rides\, we offer a little bit of everything and welcome EVERYONE from novice riders to the most seasoned racers. The focus of the ride is to bring like-minded individuals together for a great ride\, but we will have professional timing so if you want to race we will have you covered too! Routes that will satisfy all of your gravely desires\, and a post-ride gathering with food\, drink\, and hangs with new friends. Awards\, raffle\, and prizes (everything from ridiculous to awesome) to follow the ride!
URL:https://vonbuck.com/event/old-fashioned-gravel/
LOCATION:Hokah Minnesota\, The Wieser Farm\, 7661 Wieser Rd\, Hokah\, MN\, 55941\, United States
ATTACH;FMTTYPE=image/png:https://vonbuck.com/wp-content/uploads/2024/06/oldfashionedgravel.png
END:VEVENT
END:VCALENDAR