BEGIN:VCALENDAR
VERSION:2.0
PRODID:-//VonBuckinator - ECPv6.15.18//NONSGML v1.0//EN
CALSCALE:GREGORIAN
METHOD:PUBLISH
X-WR-CALNAME:VonBuckinator
X-ORIGINAL-URL:https://vonbuck.com
X-WR-CALDESC:Events for VonBuckinator
REFRESH-INTERVAL;VALUE=DURATION:PT1H
X-Robots-Tag:noindex
X-PUBLISHED-TTL:PT1H
BEGIN:VTIMEZONE
TZID:America/Chicago
BEGIN:DAYLIGHT
TZOFFSETFROM:-0600
TZOFFSETTO:-0500
TZNAME:CDT
DTSTART:20240310T080000
END:DAYLIGHT
BEGIN:STANDARD
TZOFFSETFROM:-0500
TZOFFSETTO:-0600
TZNAME:CST
DTSTART:20241103T070000
END:STANDARD
BEGIN:DAYLIGHT
TZOFFSETFROM:-0600
TZOFFSETTO:-0500
TZNAME:CDT
DTSTART:20250309T080000
END:DAYLIGHT
BEGIN:STANDARD
TZOFFSETFROM:-0500
TZOFFSETTO:-0600
TZNAME:CST
DTSTART:20251102T070000
END:STANDARD
BEGIN:DAYLIGHT
TZOFFSETFROM:-0600
TZOFFSETTO:-0500
TZNAME:CDT
DTSTART:20260308T080000
END:DAYLIGHT
BEGIN:STANDARD
TZOFFSETFROM:-0500
TZOFFSETTO:-0600
TZNAME:CST
DTSTART:20261101T070000
END:STANDARD
END:VTIMEZONE
BEGIN:VEVENT
DTSTART;VALUE=DATE:20250809
DTEND;VALUE=DATE:20250810
DTSTAMP:20260423T033718
CREATED:20240601T130458Z
LAST-MODIFIED:20250402T190931Z
UID:2305-1754697600-1754783999@vonbuck.com
SUMMARY:Apple Blossom Bike Tour
DESCRIPTION:The Apple Blossom Bike Tour is an annual ride held in La Crescent\, MN\, and hosted by the La Crescent Rotary Club. Each year\, more than 100 cyclists participate in this event\, which takes them on 1 of 6 possible routes through the beautiful Apple Blossom Valley region. \nThe ride has options for everyone\, ranging from the most challenging routes for serious cyclists to short & scenic routes for families and children. The event is sponsored by local business\, charities\, and individuals with the main goal of bringing together our community and serving important charitable causes. \nWe are very excited and pleased to welcome you to the 2025 Apple Blossom Bike Tour\, which will feature more riders than ever before\, carefully crafted routes\, and the opportunity to visit and enjoy one of Southeast Minnesota’s most beautiful regions. To help raise money for the LaCrescent Rotary Club the VonBuckinator will clean and wax your bike chain for a small donation.
URL:https://vonbuck.com/event/apple-blossom-bike-tour/
LOCATION:Veterans Park\, 159 Timm Lane\, La Crescent\, MN\, 55947\, United States
ATTACH;FMTTYPE=image/png:https://vonbuck.com/wp-content/uploads/2024/06/cropped-AppleBlossomBikeTourLogo-Green-01_24-256x145-1.png
END:VEVENT
END:VCALENDAR