BEGIN:VCALENDAR
VERSION:2.0
PRODID:-//VonBuckinator - ECPv6.15.18//NONSGML v1.0//EN
CALSCALE:GREGORIAN
METHOD:PUBLISH
X-ORIGINAL-URL:https://vonbuck.com
X-WR-CALDESC:Events for VonBuckinator
REFRESH-INTERVAL;VALUE=DURATION:PT1H
X-Robots-Tag:noindex
X-PUBLISHED-TTL:PT1H
BEGIN:VTIMEZONE
TZID:America/Chicago
BEGIN:DAYLIGHT
TZOFFSETFROM:-0600
TZOFFSETTO:-0500
TZNAME:CDT
DTSTART:20240310T080000
END:DAYLIGHT
BEGIN:STANDARD
TZOFFSETFROM:-0500
TZOFFSETTO:-0600
TZNAME:CST
DTSTART:20241103T070000
END:STANDARD
BEGIN:DAYLIGHT
TZOFFSETFROM:-0600
TZOFFSETTO:-0500
TZNAME:CDT
DTSTART:20250309T080000
END:DAYLIGHT
BEGIN:STANDARD
TZOFFSETFROM:-0500
TZOFFSETTO:-0600
TZNAME:CST
DTSTART:20251102T070000
END:STANDARD
BEGIN:DAYLIGHT
TZOFFSETFROM:-0600
TZOFFSETTO:-0500
TZNAME:CDT
DTSTART:20260308T080000
END:DAYLIGHT
BEGIN:STANDARD
TZOFFSETFROM:-0500
TZOFFSETTO:-0600
TZNAME:CST
DTSTART:20261101T070000
END:STANDARD
END:VTIMEZONE
BEGIN:VEVENT
DTSTART;VALUE=DATE:20250606
DTEND;VALUE=DATE:20250609
DTSTAMP:20260423T062543
CREATED:20240601T125523Z
LAST-MODIFIED:20250210T142924Z
UID:2298-1749168000-1749427199@vonbuck.com
SUMMARY:Epic Bike Fest
DESCRIPTION:Get ready for a cycling festival weekend that will challenge you while being fun for your entire family and friends.  Food trucks\, expo/festival\, beer tent on site\, fun and games – this will be a weekend worthy of the title Epic!\n\nEpic Singletrack\n\nFull: 37 Miles\nHalf: 18 Miles\n\n\nEpic Gravel\n\nFull: 50 Miles\nHalf: 27 Miles\n\n\nE2 – Take on both days for an epic combined challenge!\nMini Epic Kids Race
URL:https://vonbuck.com/event/epic-bike-fest/
LOCATION:American Birkebeiner Trail Head\, Cable\, WI\, 54821\, United States
ATTACH;FMTTYPE=image/png:https://vonbuck.com/wp-content/uploads/2024/06/EpicBikeFest-SRAM_top-lockup-black-BirkieBikeEvent.png
END:VEVENT
END:VCALENDAR